BEGIN:VCALENDAR
VERSION:2.0
PRODID:-//eventon.com NONSGML v1.0//EN
CALSCALE:GREGORIAN
METHOD:PUBLISH
BEGIN:VEVENT
UID:69e74b0132603
DTSTAMP:20260421T100137Z
DTSTART:20260719T134500Z
DTEND:20260719T171500Z
LOCATION:
SUMMARY:Ferry running
DESCRIPTION:Ferry running\nhttps://wivenhoerowhedgeferry.co.uk/events/ferry
 -running-185/
URL:https://wivenhoerowhedgeferry.co.uk/events/ferry-running-185/
END:VEVENT
END:VCALENDAR