BEGIN:VCALENDAR
VERSION:2.0
PRODID:-//eventon.com NONSGML v1.0//EN
CALSCALE:GREGORIAN
METHOD:PUBLISH
BEGIN:VEVENT
UID:69e9f10dd6938
DTSTAMP:20260423T101437Z
DTSTART:20260801T114500Z
DTEND:20260801T151500Z
LOCATION:
SUMMARY:Ferry running
DESCRIPTION:Ferry running\nhttps://wivenhoerowhedgeferry.co.uk/events/ferry
 -running-188/
URL:https://wivenhoerowhedgeferry.co.uk/events/ferry-running-188/
END:VEVENT
END:VCALENDAR