BEGIN:VCALENDAR
VERSION:2.0
PRODID:-//eventon.com NONSGML v1.0//EN
CALSCALE:GREGORIAN
METHOD:PUBLISH
BEGIN:VEVENT
UID:69e74b068bcd8
DTSTAMP:20260421T100142Z
DTSTART:20261031T133000Z
DTEND:20261031T160000Z
LOCATION:
SUMMARY:LAST FERRY OF 2026!
DESCRIPTION:LAST FERRY OF 2026!\nhttps://wivenhoerowhedgeferry.co.uk/events
 /last-ferry-of-2026/
URL:https://wivenhoerowhedgeferry.co.uk/events/last-ferry-of-2026/
END:VEVENT
END:VCALENDAR