BEGIN:VCALENDAR
VERSION:2.0
PRODID:-//eventon.com NONSGML v1.0//EN
CALSCALE:GREGORIAN
METHOD:PUBLISH
BEGIN:VEVENT
UID:69e9f32fd5e80
DTSTAMP:20260423T102343Z
DTSTART:20260906
DTEND:20260907
LOCATION:
SUMMARY:Not Running
DESCRIPTION:Not Running\nhttps://wivenhoerowhedgeferry.co.uk/events/not-run
 ning-15/
URL:https://wivenhoerowhedgeferry.co.uk/events/not-running-15/
END:VEVENT
END:VCALENDAR